BEGIN:VCALENDAR
VERSION:2.0
PRODID:www.cholet-basket.com
BEGIN:VEVENT
UID:69e957989c9c7
DTSTART:20250927T161000Z
SEQUENCE:0
TRANSP:OPAQUE
DTEND:20250927T181000Z
LOCATION:Cholet Basket
SUMMARY:Cholet Basket VS Strasbourg
CLASS:PUBLIC
DTSTAMP:20260423T011952Z
END:VEVENT
BEGIN:VEVENT
UID:69e957989db56
DTSTART:20251003T183000Z
SEQUENCE:0
TRANSP:OPAQUE
DTEND:20251003T203000Z
LOCATION:Cholet Basket
SUMMARY:Cholet Basket VS Boulazac Basket Dordogne
CLASS:PUBLIC
DTSTAMP:20260423T011952Z
END:VEVENT
BEGIN:VEVENT
UID:69e957989ea06
DTSTART:20251011T163000Z
SEQUENCE:0
TRANSP:OPAQUE
DTEND:20251011T183000Z
LOCATION:JDA Dijon
SUMMARY:JDA Dijon VS Cholet Basket
CLASS:PUBLIC
DTSTAMP:20260423T011952Z
END:VEVENT
BEGIN:VEVENT
UID:69e957989f870
DTSTART:20251018T163000Z
SEQUENCE:0
TRANSP:OPAQUE
DTEND:20251018T183000Z
LOCATION:Cholet Basket
SUMMARY:Cholet Basket VS Elan Chalon
CLASS:PUBLIC
DTSTAMP:20260423T011952Z
END:VEVENT
BEGIN:VEVENT
UID:69e95798a0839
DTSTART:20251025T163000Z
SEQUENCE:0
TRANSP:OPAQUE
DTEND:20251025T183000Z
LOCATION:JL Bourg
SUMMARY:JL Bourg VS Cholet Basket
CLASS:PUBLIC
DTSTAMP:20260423T011952Z
END:VEVENT
BEGIN:VEVENT
UID:69e95798a1928
DTSTART:20251101T173000Z
SEQUENCE:0
TRANSP:OPAQUE
DTEND:20251101T193000Z
LOCATION:Cholet Basket
SUMMARY:Cholet Basket VS Le Mans Sarthe Basket
CLASS:PUBLIC
DTSTAMP:20260423T011952Z
END:VEVENT
BEGIN:VEVENT
UID:69e95798a280d
DTSTART:20251107T193000Z
SEQUENCE:0
TRANSP:OPAQUE
DTEND:20251107T213000Z
LOCATION:SLUC Nancy Basket
SUMMARY:SLUC Nancy Basket VS Cholet Basket
CLASS:PUBLIC
DTSTAMP:20260423T011952Z
END:VEVENT
BEGIN:VEVENT
UID:69e95798a3876
DTSTART:20251114T193000Z
SEQUENCE:0
TRANSP:OPAQUE
DTEND:20251114T213000Z
LOCATION:Cholet Basket
SUMMARY:Cholet Basket VS Nanterre 92
CLASS:PUBLIC
DTSTAMP:20260423T011952Z
END:VEVENT
BEGIN:VEVENT
UID:69e95798a483d
DTSTART:20251122T173000Z
SEQUENCE:0
TRANSP:OPAQUE
DTEND:20251122T193000Z
LOCATION:Saint-Quentin Basketball
SUMMARY:Saint-Quentin Basketball VS Cholet Basket
CLASS:PUBLIC
DTSTAMP:20260423T011952Z
END:VEVENT
BEGIN:VEVENT
UID:69e95798a55c8
DTSTART:20251206T171000Z
SEQUENCE:0
TRANSP:OPAQUE
DTEND:20251206T191000Z
LOCATION:Cholet Basket
SUMMARY:Cholet Basket VS Limoges CSP
CLASS:PUBLIC
DTSTAMP:20260423T011952Z
END:VEVENT
BEGIN:VEVENT
UID:69e95798a636d
DTSTART:20251214T180000Z
SEQUENCE:0
TRANSP:OPAQUE
DTEND:20251214T200000Z
LOCATION:LDLC ASVEL
SUMMARY:LDLC ASVEL VS Cholet Basket
CLASS:PUBLIC
DTSTAMP:20260423T011952Z
END:VEVENT
BEGIN:VEVENT
UID:69e95798a6f30
DTSTART:20251221T180000Z
SEQUENCE:0
TRANSP:OPAQUE
DTEND:20251221T200000Z
LOCATION:Paris Basketball
SUMMARY:Paris Basketball VS Cholet Basket
CLASS:PUBLIC
DTSTAMP:20260423T011952Z
END:VEVENT
BEGIN:VEVENT
UID:69e95798a7a0f
DTSTART:20251223T180000Z
SEQUENCE:0
TRANSP:OPAQUE
DTEND:20251223T200000Z
LOCATION:Cholet Basket
SUMMARY:Cholet Basket VS AS Monaco
CLASS:PUBLIC
DTSTAMP:20260423T011952Z
END:VEVENT
BEGIN:VEVENT
UID:69e95798a89ce
DTSTART:20251226T155000Z
SEQUENCE:0
TRANSP:OPAQUE
DTEND:20251226T175000Z
LOCATION:Le Portel
SUMMARY:Le Portel VS Cholet Basket
CLASS:PUBLIC
DTSTAMP:20260423T011952Z
END:VEVENT
BEGIN:VEVENT
UID:69e95798a9900
DTSTART:20260111T163000Z
SEQUENCE:0
TRANSP:OPAQUE
DTEND:20260111T183000Z
LOCATION:BCM Gravelines-Dunkerque
SUMMARY:BCM Gravelines-Dunkerque VS Cholet Basket
CLASS:PUBLIC
DTSTAMP:20260423T011952Z
END:VEVENT
BEGIN:VEVENT
UID:69e95798aa617
DTSTART:20260117T172000Z
SEQUENCE:0
TRANSP:OPAQUE
DTEND:20260117T192000Z
LOCATION:Cholet Basket
SUMMARY:Cholet Basket VS Saint-Quentin Basketball
CLASS:PUBLIC
DTSTAMP:20260423T011952Z
END:VEVENT
BEGIN:VEVENT
UID:69e95798aaee2
DTSTART:20260124T172000Z
SEQUENCE:0
TRANSP:OPAQUE
DTEND:20260124T192000Z
LOCATION:Elan Chalon
SUMMARY:Elan Chalon VS Cholet Basket
CLASS:PUBLIC
DTSTAMP:20260423T011952Z
END:VEVENT
BEGIN:VEVENT
UID:69e95798ab842
DTSTART:20260131T170000Z
SEQUENCE:0
TRANSP:OPAQUE
DTEND:20260131T190000Z
LOCATION:Cholet Basket
SUMMARY:Cholet Basket VS JL Bourg
CLASS:PUBLIC
DTSTAMP:20260423T011952Z
END:VEVENT
BEGIN:VEVENT
UID:69e95798ac168
DTSTART:20260208T150000Z
SEQUENCE:0
TRANSP:OPAQUE
DTEND:20260208T170000Z
LOCATION:Limoges CSP
SUMMARY:Limoges CSP VS Cholet Basket
CLASS:PUBLIC
DTSTAMP:20260423T011952Z
END:VEVENT
BEGIN:VEVENT
UID:69e95798aca5c
DTSTART:20260213T193000Z
SEQUENCE:0
TRANSP:OPAQUE
DTEND:20260213T213000Z
LOCATION:Cholet Basket
SUMMARY:Cholet Basket VS BCM Gravelines-Dunkerque
CLASS:PUBLIC
DTSTAMP:20260423T011952Z
END:VEVENT
BEGIN:VEVENT
UID:69e95798ad305
DTSTART:20260307T193000Z
SEQUENCE:0
TRANSP:OPAQUE
DTEND:20260307T213000Z
LOCATION:AS Monaco
SUMMARY:AS Monaco VS Cholet Basket
CLASS:PUBLIC
DTSTAMP:20260423T011952Z
END:VEVENT
BEGIN:VEVENT
UID:69e95798adc3c
DTSTART:20260314T171000Z
SEQUENCE:0
TRANSP:OPAQUE
DTEND:20260314T191000Z
LOCATION:Cholet Basket
SUMMARY:Cholet Basket VS Le Portel
CLASS:PUBLIC
DTSTAMP:20260423T011952Z
END:VEVENT
BEGIN:VEVENT
UID:69e95798ae597
DTSTART:20260321T173000Z
SEQUENCE:0
TRANSP:OPAQUE
DTEND:20260321T193000Z
LOCATION:Strasbourg
SUMMARY:Strasbourg VS Cholet Basket
CLASS:PUBLIC
DTSTAMP:20260423T011952Z
END:VEVENT
BEGIN:VEVENT
UID:69e95798aee80
DTSTART:20260328T193000Z
SEQUENCE:0
TRANSP:OPAQUE
DTEND:20260328T213000Z
LOCATION:Cholet Basket
SUMMARY:Cholet Basket VS LDLC ASVEL
CLASS:PUBLIC
DTSTAMP:20260423T011952Z
END:VEVENT
BEGIN:VEVENT
UID:69e95798af76a
DTSTART:20260404T163000Z
SEQUENCE:0
TRANSP:OPAQUE
DTEND:20260404T183000Z
LOCATION:Le Mans Sarthe Basket
SUMMARY:Le Mans Sarthe Basket VS Cholet Basket
CLASS:PUBLIC
DTSTAMP:20260423T011952Z
END:VEVENT
BEGIN:VEVENT
UID:69e95798b00a4
DTSTART:20260411T163000Z
SEQUENCE:0
TRANSP:OPAQUE
DTEND:20260411T183000Z
LOCATION:Cholet Basket
SUMMARY:Cholet Basket VS JDA Dijon
CLASS:PUBLIC
DTSTAMP:20260423T011952Z
END:VEVENT
BEGIN:VEVENT
UID:69e95798b2743
DTSTART:20260419T153000Z
SEQUENCE:0
TRANSP:OPAQUE
DTEND:20260419T173000Z
LOCATION:Cholet Basket
SUMMARY:Cholet Basket VS Paris Basketball
CLASS:PUBLIC
DTSTAMP:20260423T011952Z
END:VEVENT
BEGIN:VEVENT
UID:69e95798b2adf
DTSTART:20260502T160000Z
SEQUENCE:0
TRANSP:OPAQUE
DTEND:20260502T180000Z
LOCATION:Boulazac Basket Dordogne
SUMMARY:Boulazac Basket Dordogne VS Cholet Basket
CLASS:PUBLIC
DTSTAMP:20260423T011952Z
END:VEVENT
BEGIN:VEVENT
UID:69e95798b2e41
DTSTART:20260510T143000Z
SEQUENCE:0
TRANSP:OPAQUE
DTEND:20260510T163000Z
LOCATION:Cholet Basket
SUMMARY:Cholet Basket VS SLUC Nancy Basket
CLASS:PUBLIC
DTSTAMP:20260423T011952Z
END:VEVENT
BEGIN:VEVENT
UID:69e95798b3215
DTSTART:20260516T170000Z
SEQUENCE:0
TRANSP:OPAQUE
DTEND:20260516T190000Z
LOCATION:Nanterre 92
SUMMARY:Nanterre 92 VS Cholet Basket
CLASS:PUBLIC
DTSTAMP:20260423T011952Z
END:VEVENT
END:VCALENDAR